BEGIN:VCALENDAR
VERSION:2.0
PRODID:-//ChamberMaster//Event Calendar 2.0//EN
METHOD:PUBLISH
X-PUBLISHED-TTL:P3D
REFRESH-INTERVAL:P3D
CALSCALE:GREGORIAN
BEGIN:VEVENT
DTSTART:20191213T113000Z
DTEND:20191213T140000Z
X-MICROSOFT-CDO-ALLDAYEVENT:FALSE
SUMMARY:Multi-Chambers ESB Networking hosted by BCCT
DESCRIPTION:Please register HERE\n\n\n\nAMCHAM\, in cooperation with BCCT\, AustCham\, BeLuThai\, CanCham\, GTCC\, NTCC\, SATCC and STCC cordially invites you to Multi-Chambers Eastern Seaboard Christmas Networking.\n\n\n\nAdditional details:\n\n\n\nTransport: BCCT has transportation leaving Bangkok at 3:00 pm (sharp) to Pattaya and returning the same night after the event. If you are interested in joining us please leave a comment or email to banthita@bccthai.com Cost is THB 500/person. \n\n\n\nAccommodation: Amari Pattaya is offering a special room rate on during 11 - 15 December at THB 4\,250++ per night including breakfast. Promo Code "BCCT2019" on amari.com.  \n\n\n\nFood & Drinks Menu:                                                                \n\nCocktail Canap s: Cider glazed pork belly\, sweet potato hash\; Boccioni and Balsamic Tomatoes\; Smoked chicken\, corn mousse Profiterole & Mediterranean Vegetable Bar\n\nLive Stations: Peking duck & Mooshu Pancake\; Pasta Bar & Tiramisu\n\nDesserts: Island style crunch cake\; Triple Chocolate Mousse\; Vanilla  clair & Seasonal fruits\n\nDrinks: Merlot & Pinot Grigio Wine on tap\; Heineken Draught Beer & Soft drinks
X-ALT-DESC;FMTTYPE=text/html:<strong>Please register</strong>&nbsp\;<strong><a href="https://members.bccthai.com/BCCT/asp/eventbook.asp?member=N&amp\;EventID=3337"><span style="color: rgb(255\, 0\, 0)\;">HERE</span></a></strong><br />\n<br />\nAMCHAM\, in cooperation with BCCT\, AustCham\, BeLuThai\, CanCham\, GTCC\, NTCC\, SATCC and STCC cordially invites you to Multi-Chambers Eastern Seaboard Christmas Networking.<br />\n<br />\n<strong>Additional details:</strong><br />\n<br />\n<strong>Transport:</strong> BCCT has transportation leaving Bangkok at 3:00 pm (sharp) to Pattaya and returning the same night after the event. If you are interested in joining us please leave a comment or email to banthita@bccthai.com Cost is THB 500/person.&nbsp\;<br />\n<br />\n<strong>Accommodation:</strong> Amari Pattaya is offering a special room rate on during 11 - 15 December at THB 4\,250++ per night including breakfast. Promo Code &quot\;BCCT2019&quot\; on amari.com.&nbsp\;&nbsp\;<br />\n<br />\n<strong>Food &amp\; Drinks Menu:</strong>&nbsp\; &nbsp\; &nbsp\; &nbsp\; &nbsp\; &nbsp\; &nbsp\; &nbsp\; &nbsp\; &nbsp\; &nbsp\; &nbsp\; &nbsp\; &nbsp\; &nbsp\; &nbsp\; &nbsp\; &nbsp\; &nbsp\; &nbsp\; &nbsp\; &nbsp\; &nbsp\; &nbsp\; &nbsp\; &nbsp\; &nbsp\; &nbsp\; &nbsp\; &nbsp\; &nbsp\; &nbsp\;&nbsp\;<br />\nCocktail Canap&eacute\;s: Cider glazed pork belly\, sweet potato hash\; Boccioni and Balsamic Tomatoes\; Smoked chicken\, corn mousse Profiterole &amp\; Mediterranean Vegetable Bar<br />\nLive Stations: Peking duck &amp\; Mooshu Pancake\; Pasta Bar &amp\; Tiramisu<br />\nDesserts: Island style crunch cake\; Triple Chocolate Mousse\; Vanilla &eacute\;clair &amp\; Seasonal fruits<br />\nDrinks: Merlot &amp\; Pinot Grigio Wine on tap\; Heineken Draught Beer &amp\; Soft drinks&nbsp\;&nbsp\;
LOCATION:Beach Lawn\, Amari Pattaya
UID:e.3314.228
SEQUENCE:3
DTSTAMP:20260420T044835Z
URL:http://accthailand.chambermaster.com/events/details/multi-chambers-esb-networking-hosted-by-bcct-228
END:VEVENT

END:VCALENDAR
